BEGIN:VCALENDAR
VERSION:2.0
PRODID:-//EO Chicago - ECPv6.0.11//NONSGML v1.0//EN
CALSCALE:GREGORIAN
METHOD:PUBLISH
X-ORIGINAL-URL:https://eochicago.org
X-WR-CALDESC:Events for EO Chicago
REFRESH-INTERVAL;VALUE=DURATION:PT1H
X-Robots-Tag:noindex
X-PUBLISHED-TTL:PT1H
BEGIN:VTIMEZONE
TZID:America/Chicago
BEGIN:DAYLIGHT
TZOFFSETFROM:-0600
TZOFFSETTO:-0500
TZNAME:CDT
DTSTART:20260308T080000
END:DAYLIGHT
BEGIN:STANDARD
TZOFFSETFROM:-0500
TZOFFSETTO:-0600
TZNAME:CST
DTSTART:20261101T070000
END:STANDARD
END:VTIMEZONE
BEGIN:VEVENT
DTSTART;TZID=America/Chicago:20260421T180000
DTEND;TZID=America/Chicago:20260421T200000
DTSTAMP:20260421T031248
CREATED:20260318T034558Z
LAST-MODIFIED:20260322T161814Z
UID:19069-1776794400-1776801600@eochicago.org
SUMMARY:EO SLP Dinner: Connection & 5% Conversations
DESCRIPTION:Join fellow EO SLPs for a private dinner. This evening is a chance to connect with other spouses in a relaxed setting over great food and drinks. Cari and Kristy will also share a short introduction to Forum and guide a brief “5% conversation” so you can experience the kind of deeper connection many SLPs value in Forum. Spouses and Life Partners not in a forum are encouraged to come— you do not have to be in a forum to attend. \nRSVP By: 4/15/26 \nAttendees: SLPs currently not in a forum
URL:https://eochicago.org/event/eo-slp-dinner-connection-5-conversations/
LOCATION:Ada Street\, 1664 North Ada Street\, Chicago\, IL\, 60642\, United States
CATEGORIES:Forum
ATTACH;FMTTYPE=image/png:https://eochicago.org/wp-content/uploads/2026/03/19069_image.png
END:VEVENT
BEGIN:VEVENT
DTSTART;TZID=America/Chicago:20260512T200000
DTEND;TZID=America/Chicago:20260512T220000
DTSTAMP:20260421T031248
CREATED:20260325T154943Z
LAST-MODIFIED:20260325T155320Z
UID:19106-1778616000-1778623200@eochicago.org
SUMMARY:ZOOM Call: Demystifying Forum for SLPs
DESCRIPTION:EO Global is excited to invite your Spouses and Life Partners (SLPs) to join the last Demystifying Forum for SLPs workshop of this fiscal year — a dynamic introduction to Forum designed to inspire curiosity and connection. \n  \n📅 Date: May 12\, 2026 — Tuesday\n🕙 Time: 8:00 pm – 10:00 pm Central time\n📍 Where: Online via Zoom \n  \nThis interactive two-hour session is the perfect introduction for SLPs who are new to Forum. They’ll discover: \n\nWhat Forum is and how it works\nWhy it’s such a powerful tool for growth and connection\nHow it can enrich their personal journey and relationships\n\nTo save your spot: Register Here \nThis is your chance to step into Forum for the first time\, connect with others\, and experience the impact it can have. \n  \nWe look forward to welcoming you! \n  \n  \nAttendees: SLPs
URL:https://eochicago.org/event/zoom-call-demystifying-forum-for-slps-2/
LOCATION:Zoom Session
CATEGORIES:Forum
ATTACH;FMTTYPE=image/png:https://eochicago.org/wp-content/uploads/2026/03/19106_image.png
END:VEVENT
END:VCALENDAR