BEGIN:VCALENDAR
VERSION:2.0
PRODID:-//EO Chicago - ECPv6.0.11//NONSGML v1.0//EN
CALSCALE:GREGORIAN
METHOD:PUBLISH
X-ORIGINAL-URL:https://eochicago.org
X-WR-CALDESC:Events for EO Chicago
REFRESH-INTERVAL;VALUE=DURATION:PT1H
X-Robots-Tag:noindex
X-PUBLISHED-TTL:PT1H
BEGIN:VTIMEZONE
TZID:America/Chicago
BEGIN:DAYLIGHT
TZOFFSETFROM:-0600
TZOFFSETTO:-0500
TZNAME:CDT
DTSTART:20250309T080000
END:DAYLIGHT
BEGIN:STANDARD
TZOFFSETFROM:-0500
TZOFFSETTO:-0600
TZNAME:CST
DTSTART:20251102T070000
END:STANDARD
END:VTIMEZONE
BEGIN:VEVENT
DTSTART;TZID=America/Chicago:20251027T173000
DTEND;TZID=America/Chicago:20251027T203000
DTSTAMP:20260421T164121
CREATED:20250917T184659Z
LAST-MODIFIED:20251025T232434Z
UID:18292-1761586200-1761597000@eochicago.org
SUMMARY:SLP Exclusive Event: Evening of Cultural Immersion: India
DESCRIPTION:✨You’re Invited to an Evening of Cultural Immersion: India✨ \nAn Intimate Night of Dance\, Flavor\, Color & Connection \nGet ready to be transported! We’re gathering for a vibrant\, hands-on evening exploring the richness of Indian culture—through movement\, food\, fashion\, and story. \n🪷 Learn the beauty and rhythm of Indian dance \n🍛 Savor authentic dishes that celebrate flavor and tradition \n💫 See beautiful garments and explore cultural customs \n🧡 Connect with others in a space of curiosity and joy \n  \nThis special evening will take place in the home of an SLP member\, creating a warm\, welcoming setting where you’ll not just observe—but experience. \n  \nCome ready to move\, taste\, ask questions\, and open your heart to something new. \nIt’s not just an event—it’s a celebration of culture\, community\, and connection. \n  \nLocation: Glenview (We will provide the address to you before the event.) \n  \n   RSVP By: 10/22/25. \nAttendees: SLPs
URL:https://eochicago.org/event/slp-exclusive-event-evening-of-cultural-immersion-india/
CATEGORIES:Forum
ATTACH;FMTTYPE=image/png:https://eochicago.org/wp-content/uploads/2025/09/18292_image.png
END:VEVENT
END:VCALENDAR