BEGIN:VCALENDAR
VERSION:2.0
PRODID:-//EO Chicago - ECPv6.0.11//NONSGML v1.0//EN
CALSCALE:GREGORIAN
METHOD:PUBLISH
X-WR-CALNAME:EO Chicago
X-ORIGINAL-URL:https://eochicago.org
X-WR-CALDESC:Events for EO Chicago
REFRESH-INTERVAL;VALUE=DURATION:PT1H
X-Robots-Tag:noindex
X-PUBLISHED-TTL:PT1H
BEGIN:VTIMEZONE
TZID:America/Chicago
BEGIN:DAYLIGHT
TZOFFSETFROM:-0600
TZOFFSETTO:-0500
TZNAME:CDT
DTSTART:20150308T080000
END:DAYLIGHT
BEGIN:STANDARD
TZOFFSETFROM:-0500
TZOFFSETTO:-0600
TZNAME:CST
DTSTART:20151101T070000
END:STANDARD
END:VTIMEZONE
BEGIN:VEVENT
DTSTART;TZID=America/Chicago:20150917T083000
DTEND;TZID=America/Chicago:20150917T083000
DTSTAMP:20260424T193621
CREATED:20230707T230416Z
LAST-MODIFIED:20231002T152231Z
UID:942-1442478600-1442478600@eochicago.org
SUMMARY:Patrick Lencioni : Five Dysfunctions of a Team
DESCRIPTION:
URL:https://eochicago.org/event/patrick-lencioni-five-dysfunctions-of-a-team/
END:VEVENT
BEGIN:VEVENT
DTSTART;TZID=America/Chicago:20150917T163000
DTEND;TZID=America/Chicago:20150917T163000
DTSTAMP:20260424T193621
CREATED:20230707T230416Z
LAST-MODIFIED:20231002T152231Z
UID:943-1442507400-1442507400@eochicago.org
SUMMARY:Membership Happy Hour
DESCRIPTION:
URL:https://eochicago.org/event/membership-happy-hour/
END:VEVENT
BEGIN:VEVENT
DTSTART;TZID=America/Chicago:20150921T074500
DTEND;TZID=America/Chicago:20150921T074500
DTSTAMP:20260424T193621
CREATED:20230707T230417Z
LAST-MODIFIED:20231002T152231Z
UID:944-1442821500-1442821500@eochicago.org
SUMMARY:Bonus Learning Day: Execution (aka process-driven success)
DESCRIPTION:
URL:https://eochicago.org/event/bonus-learning-day-execution-aka-process-driven-success/
END:VEVENT
BEGIN:VEVENT
DTSTART;TZID=America/Chicago:20150923T160000
DTEND;TZID=America/Chicago:20150923T160000
DTSTAMP:20260424T193621
CREATED:20230707T230417Z
LAST-MODIFIED:20231002T152231Z
UID:945-1443024000-1443024000@eochicago.org
SUMMARY:Accelerator September Social
DESCRIPTION:
URL:https://eochicago.org/event/accelerator-september-social/
END:VEVENT
BEGIN:VEVENT
DTSTART;TZID=America/Chicago:20150929T150000
DTEND;TZID=America/Chicago:20150929T150000
DTSTAMP:20260424T193621
CREATED:20230707T230617Z
LAST-MODIFIED:20231002T152244Z
UID:946-1443538800-1443538800@eochicago.org
SUMMARY:EO & WPO Mentorship Event
DESCRIPTION:
URL:https://eochicago.org/event/eo-wpo-mentorship-event/
END:VEVENT
END:VCALENDAR