BEGIN:VCALENDAR
VERSION:2.0
PRODID:-//EO Chicago - ECPv6.0.11//NONSGML v1.0//EN
CALSCALE:GREGORIAN
METHOD:PUBLISH
X-WR-CALNAME:EO Chicago
X-ORIGINAL-URL:https://eochicago.org
X-WR-CALDESC:Events for EO Chicago
REFRESH-INTERVAL;VALUE=DURATION:PT1H
X-Robots-Tag:noindex
X-PUBLISHED-TTL:PT1H
BEGIN:VTIMEZONE
TZID:America/Chicago
BEGIN:DAYLIGHT
TZOFFSETFROM:-0600
TZOFFSETTO:-0500
TZNAME:CDT
DTSTART:20260308T080000
END:DAYLIGHT
BEGIN:STANDARD
TZOFFSETFROM:-0500
TZOFFSETTO:-0600
TZNAME:CST
DTSTART:20261101T070000
END:STANDARD
BEGIN:DAYLIGHT
TZOFFSETFROM:-0600
TZOFFSETTO:-0500
TZNAME:CDT
DTSTART:20270314T080000
END:DAYLIGHT
BEGIN:STANDARD
TZOFFSETFROM:-0500
TZOFFSETTO:-0600
TZNAME:CST
DTSTART:20271107T070000
END:STANDARD
END:VTIMEZONE
BEGIN:VEVENT
DTSTART;TZID=America/Chicago:20261025T140000
DTEND;TZID=America/Chicago:20261027T220000
DTSTAMP:20260419T223847
CREATED:20260215T043552Z
LAST-MODIFIED:20260215T043552Z
UID:18902-1792936800-1793138400@eochicago.org
SUMMARY:EO XCentric Cleveland
DESCRIPTION:EO XCentric Cleveland is built for entrepreneurs who crave what’s next. It’s a few days to step out of the noise\, challenge your thinking\, and reconnect with the energy that started it all. \nYou’ll trade ideas\, stories\, and lessons with people who understand the grind and the thrill of building something real. Every moment is designed to move you forward and remind you what it means to create\, lead\, and evolve. \nCleveland is a city that understands reinvention\, where creativity and resilience are part of the culture. It’s the ideal place for intentional growth\, change\, and rejuvenation. Join us\, and be part of the evolution.
URL:https://eochicago.org/event/eo-xcentric-cleveland/
LOCATION:Hilton Cleveland Downtown\, 100 Lakeside Ave E\, Cleveland\, OH\, 44114
ATTACH;FMTTYPE=image/png:https://eochicago.org/wp-content/uploads/2026/02/Centric-Logo.png
END:VEVENT
BEGIN:VEVENT
DTSTART;TZID=America/Chicago:20270411T080000
DTEND;TZID=America/Chicago:20270413T170000
DTSTAMP:20260419T223847
CREATED:20260419T164831Z
LAST-MODIFIED:20260419T170204Z
UID:19328-1807430400-1807635600@eochicago.org
SUMMARY:EO's 2027 Global Leadership Conference (GLC) - Kyoto\, Japan
DESCRIPTION:Save the date!
URL:https://eochicago.org/event/eos-2027-global-leadership-conference-glc-kyoto-japan/
LOCATION:TBD
END:VEVENT
BEGIN:VEVENT
DTSTART;TZID=America/Chicago:20270915T080000
DTEND;TZID=America/Chicago:20270917T170000
DTSTAMP:20260419T223847
CREATED:20260419T165806Z
LAST-MODIFIED:20260419T165806Z
UID:19330-1820995200-1821200400@eochicago.org
SUMMARY:Xcentric 2027 - Austin
DESCRIPTION:Save the date!
URL:https://eochicago.org/event/xcentric-2027-austin/
LOCATION:TBD
END:VEVENT
END:VCALENDAR