BEGIN:VCALENDAR
VERSION:2.0
PRODID:-//EO Chicago - ECPv6.0.11//NONSGML v1.0//EN
CALSCALE:GREGORIAN
METHOD:PUBLISH
X-ORIGINAL-URL:https://eochicago.org
X-WR-CALDESC:Events for EO Chicago
REFRESH-INTERVAL;VALUE=DURATION:PT1H
X-Robots-Tag:noindex
X-PUBLISHED-TTL:PT1H
BEGIN:VTIMEZONE
TZID:America/Chicago
BEGIN:DAYLIGHT
TZOFFSETFROM:-0600
TZOFFSETTO:-0500
TZNAME:CDT
DTSTART:20260308T080000
END:DAYLIGHT
BEGIN:STANDARD
TZOFFSETFROM:-0500
TZOFFSETTO:-0600
TZNAME:CST
DTSTART:20261101T070000
END:STANDARD
END:VTIMEZONE
BEGIN:VEVENT
DTSTART;TZID=America/Chicago:20260108T153000
DTEND;TZID=America/Chicago:20260108T170000
DTSTAMP:20260420T112326
CREATED:20251217T180041Z
LAST-MODIFIED:20251217T073308Z
UID:18686-1767886200-1767891600@eochicago.org
SUMMARY:Member Roundtable: Building a Modern Personal Brand on LinkedIn: Practitioner Insights\, Real-World Experiments & Audience-Driven Learning
DESCRIPTION:Member Roundtable: Building a Modern Personal Brand on LinkedIn: Practitioner Insights\, Real-World Experiments & Audience-Driven Learning\n\n\n\nReady to kick off 2026 by showing up powerfully on LinkedIn? \nIf you’ve been posting without traction—or not posting at all—this is your chance to reset. Join us for a high-impact\, interactive session on building a standout personal brand on LinkedIn in 2026 and beyond. \nLed by our very own EOA member Jared Gibson\, a LinkedIn content practitioner\, and supported by EO member Asif Rehmani\, this session blends expert insights\, real-world perspective\, and live attendee interaction for maximum value. \nWhat you’ll get: \n\nWhat’s actually working on LinkedIn right now\nWhy your personal brand matters more than your company page\nThe real impact of LinkedIn’s new 360Brew update\nSimple fixes for common posting mistakes\nFrameworks to post consistently without overwhelm\n\nBonus: Stay for a relaxed happy hour with fellow entrepreneurs afterward. Start the year strong—on social and in community. \nReserve your spot now and step into 2026 with confidence.  \nRSVP By: 1/2/26 \nAttendees: EO\, EOA & SAPs \n\n\n\n\n\n 
URL:https://eochicago.org/event/building-a-modern-personal-brand-on-linkedin/
CATEGORIES:Learning
ATTACH;FMTTYPE=image/png:https://eochicago.org/wp-content/uploads/2025/12/18686_image.png
END:VEVENT
BEGIN:VEVENT
DTSTART;TZID=America/Chicago:20260121T160000
DTEND;TZID=America/Chicago:20260121T193000
DTSTAMP:20260420T112326
CREATED:20250903T170029Z
LAST-MODIFIED:20250930T142743Z
UID:18174-1769011200-1769023800@eochicago.org
SUMMARY:EO Talks 2026: Third Annual Storytelling Experience
DESCRIPTION:  \n✨ Rated the best EO Chicago learning event for two years running—EO Talks is back for its third year! \nThis year\, we’re raising the bar: amplifying the promise\, hitting the 5%\, and engaging YOU\, the audience\, even more. \nFour of our inspiring members—Julie Hoffman\, Erin Huizenga\, Nolan Lee\, and Hernan Silva—will step into the spotlight to share their stories of resilience\, growth\, and transformation. Guided by the incomparable Sally Lou Loveman (former Oprah audience producer)\, they’ve been crafting talks that reflect not only their personal journeys but also the true spirit of EO. \nBut EO Talks isn’t just about listening—it’s about connection. These aren’t polished highlight reels. They’re raw\, real\, and honest 5% moments that reveal who we are beyond business. As an attendee\, you’ll be invited to lean in\, get curious\, and reflect on your own story alongside your peers. \nThis is more than an evening of storytelling—it’s a chance to celebrate courage\, spark curiosity\, and connect more deeply with each other through the stories that shape us. \nWhat’s New This Year \n\nIntimate + Member-Only Space – To deepen connection\, this year’s EO Talks is exclusive to EO Chicago members. (Each speaker may bring one special guest.)\nAudience Engagement – Expect more ways to interact with the stories\, the speakers\, and each other.\nAmplify the Promise – The theme of the year comes alive: showing up fully\, vulnerably\, and authentically as yourself.\n\nAgenda: \n4:00 – 6:30pm Talks & Presentations. \n6:30 – 7:30pm Social & Connection. \nAbout Our Host: Sally Lou Loveman knows that the #1 fear people have is public speaking. It just happens to be the one fear she never had. After years as the audience producer for The Oprah Winfrey Show\, Sally Lou now coaches people to love their story\, connect with their audience\, and speak without fear. Her book SPEAK: Love Your Story\, Your Audience is Waiting shows how storytelling can become your superpower. \nRSVP By: 1/12/26. \nAttendees: EO Members\, EOA & SAPs \n  \n 
URL:https://eochicago.org/event/eo-talks-2026-third-annual-storytelling-experience/
CATEGORIES:Learning
ATTACH;FMTTYPE=image/png:https://eochicago.org/wp-content/uploads/2025/09/EO-Talks-2026-2.png
END:VEVENT
BEGIN:VEVENT
DTSTART;TZID=America/Chicago:20260127T100000
DTEND;TZID=America/Chicago:20260127T120000
DTSTAMP:20260420T112326
CREATED:20251217T180014Z
LAST-MODIFIED:20260125T025015Z
UID:18694-1769508000-1769515200@eochicago.org
SUMMARY:Learning Workshop: Leading Growth in 2026: How Great Leaders Develop Their People w/Patty Campagna (Leading Teams)
DESCRIPTION:To grow your business\, you need to grow your people. Employee development doesn’t happen in annual reviews—it happens in everyday conversations.\n\nThis highly interactive 2-hour workshop is designed for members + one key executive to attend together. We will examine The GROWTH Conversation\, a simple leadership framework designed to help you use 1:1 meetings more effectively – driving connection\, personal development\, and alignment. Participants will learn how to balance performance\, strengths\, and growth in a way that supports both the individual and the business.\n\nBecause great development starts with self-awareness\, participants will also reflect on your own growth goals for 2026\, clarifying how you want to show up for your teams in the year ahead.\n\nYou will practice the GROWTH framework in real time with one of your key executives and leave with a personalized development plan.\n\nNOTE: We encourage you to take your Key Exec out for lunch following the workshop to continue the conversation 1:1 and build on what you learn.\n\n\nKey takeaways: \n\nA repeatable framework for effective 1:1 development conversations\nIncreased confidence in supporting\, coaching and challenging your people\nA concrete development plan for one direct report\nClarity on your own leadership growth focus for 2026\nPractical tools that align individual growth with business priorities\n\n  \nRSVP By: 1/21/26 \nAttendees: EO Members + one Key Exec
URL:https://eochicago.org/event/learning-workshop-leading-growth-in-2026-how-great-leaders-develop-their-people-w-patty-campagna-leading-teams/
CATEGORIES:Learning
ATTACH;FMTTYPE=image/png:https://eochicago.org/wp-content/uploads/2025/12/Untitled-design-2026-01-24T204906.825.png
END:VEVENT
END:VCALENDAR