BEGIN:VCALENDAR
VERSION:2.0
PRODID:-//EO Chicago - ECPv6.0.11//NONSGML v1.0//EN
CALSCALE:GREGORIAN
METHOD:PUBLISH
X-ORIGINAL-URL:https://eochicago.org
X-WR-CALDESC:Events for EO Chicago
REFRESH-INTERVAL;VALUE=DURATION:PT1H
X-Robots-Tag:noindex
X-PUBLISHED-TTL:PT1H
BEGIN:VTIMEZONE
TZID:America/Chicago
BEGIN:DAYLIGHT
TZOFFSETFROM:-0600
TZOFFSETTO:-0500
TZNAME:CDT
DTSTART:20260308T080000
END:DAYLIGHT
BEGIN:STANDARD
TZOFFSETFROM:-0500
TZOFFSETTO:-0600
TZNAME:CST
DTSTART:20261101T070000
END:STANDARD
END:VTIMEZONE
BEGIN:VEVENT
DTSTART;TZID=America/Chicago:20260311T181500
DTEND;TZID=America/Chicago:20260311T211500
DTSTAMP:20260421T042953
CREATED:20260114T210613Z
LAST-MODIFIED:20260304T040701Z
UID:18793-1773252900-1773263700@eochicago.org
SUMMARY:Escape the Ordinary: The EO 5% Experience
DESCRIPTION:An Elite Escape Room Challenge for EO Teams Ready to Think Faster—Together\n\n\n\nEO Escape Room + Pizza 🍕🔐 \nReady to test your problem-solving skills outside the boardroom? \nJoin us for a fun\, fast-paced escape room experience\, where we’ll break into teams and tackle one of these missions: \n\nRob the Bank 💰\nEscape the Bunker 💣\nOutsmart the Zodiac Killer 🔍\nBreak Out of Prison 🚔\n\nExpect clever puzzles\, teamwork\, laughs\, and a little friendly competition along the way. \nAfter the escape\, we’ll head to Lou Malnati’s for deep-dish pizza\, drinks\, and great EO conversation. 🍕 \nNo prep\, no pressure—just a chance to connect\, think differently\, and enjoy a great night with fellow EO members. \nEscape first. Pizza second.\nThe perfect EO equation. \n  \n  \n  \nLocation:\nFox in a Box Escape Room Chicago is located in the lower level of Dearborn Galleria. To find them\, look for the Roots Pizza across from Dearborn Station. They are in the big red Dearborn Station building with a clock tower — go in under the clock tower and walk to the sign with their logo near the stairs and follow instructions. \nParking:\nMetered street parking is available at a cost of $4/hour for up to 3 hours. All day “stack” parking is available behind the building (pricing varies by the demand/whim of the attendant). ParkWhiz.com has numerous nearby options showing a map with price for the duration you require. (Following the link to ParkWhiz should give a $5 discount for first time users.) \nRSVP By: 3/6/26. \nAttendees: EO Members\, EOA\, SAPs & SLPs
URL:https://eochicago.org/event/escape-the-ordinary-the-eo-5-experience/
LOCATION:Fox In A Box Escape Room Chicago\, 47 W Polk Street\, Suite Lower 5\, Chicago\, IL 60605\, Chicago\, IL\, 60605\, US
CATEGORIES:Engagement
ATTACH;FMTTYPE=image/png:https://eochicago.org/wp-content/uploads/2026/01/18793_image.png
END:VEVENT
BEGIN:VEVENT
DTSTART;TZID=America/Chicago:20260319T185000
DTEND;TZID=America/Chicago:20260319T220000
DTSTAMP:20260421T042953
CREATED:20260227T232607Z
LAST-MODIFIED:20260316T210938Z
UID:18958-1773946200-1773957600@eochicago.org
SUMMARY:EO Goes Virtual: Sandbox VR Experience
DESCRIPTION:EO Chicago\, \nYou’re receiving this for a reason. \nOn March 19\, a private immersive arena opens for exactly 18 EO members.  \nNo audience. No observers. No second wave. \nEighteen enter. Eighteen compete. \nYou’ll step into a fully immersive environment where strategy matters\, alliances form quickly\, and instincts get tested. Every move counts. Every decision shifts the outcome. \nThis is not a dinner. This is not a panel. This is not passive. \nIt’s high energy. It’s competitive. It’s unforgettable. \nOnly the first 18 members to register will gain access.\nWhen the list fills\, it closes. No waitlist. No exceptions. \nIf you’re in\, commit. \n  \nWear light\, comfortable clothing so you can move around freely and comfortably in our VR environments! Some games really get the heart pumping! \nWear contacts instead of glasses if possible for more comfort. We do have a few prescription lenses on site but they do not account for variances in each eye. \nSandbox VR is located on the second floor of the mall right across from Distrik which is the food court. It is best to park on the fourth floor of the orange parking garage closest to the elevators by the bridge that leads you to the mall. \nRSVP By: 3/11/26  \nAttendees: EO Members\, EOA & SAP \n*This experience is not recommended for pregnant women or those with heart conditions. \n 
URL:https://eochicago.org/event/eo-goes-virtual-sandbox-vr-experience/
LOCATION:Sandbox VR\, 560 Oakbrook Center\, Oak Brook\, IL\, 60523
CATEGORIES:Engagement
ATTACH;FMTTYPE=image/png:https://eochicago.org/wp-content/uploads/2026/02/18958_image.png
END:VEVENT
END:VCALENDAR