BEGIN:VCALENDAR
VERSION:2.0
PRODID:-//EO Chicago - ECPv6.0.11//NONSGML v1.0//EN
CALSCALE:GREGORIAN
METHOD:PUBLISH
X-ORIGINAL-URL:https://eochicago.org
X-WR-CALDESC:Events for EO Chicago
REFRESH-INTERVAL;VALUE=DURATION:PT1H
X-Robots-Tag:noindex
X-PUBLISHED-TTL:PT1H
BEGIN:VTIMEZONE
TZID:America/Chicago
BEGIN:DAYLIGHT
TZOFFSETFROM:-0600
TZOFFSETTO:-0500
TZNAME:CDT
DTSTART:20260308T080000
END:DAYLIGHT
BEGIN:STANDARD
TZOFFSETFROM:-0500
TZOFFSETTO:-0600
TZNAME:CST
DTSTART:20261101T070000
END:STANDARD
END:VTIMEZONE
BEGIN:VEVENT
DTSTART;TZID=America/Chicago:20260109T183000
DTEND;TZID=America/Chicago:20260109T213000
DTSTAMP:20260421T014658
CREATED:20250827T183202Z
LAST-MODIFIED:20250926T043117Z
UID:18150-1767983400-1767994200@eochicago.org
SUMMARY:Table for Growth: An evening at Maxwells Trading
DESCRIPTION:Private dinner with EO Chicago\n\n\n🍷 EO Private Dinner at Maxwells Trading \nJoin us for an intimate evening at Maxwells Trading\, the vision of Josh Tilden and James Beard Award–winning chef Erling Wu-Bower. \nMaxwells was created as a place to unwind\, eat\, drink\, and share ideas with friends—a perfect setting for EO connection. Their mission is simple but powerful: soul-satisfying food\, crisp cocktails\, engaging wines\, and great music\, all served with a spirit of community and sustainability. \nWe’ll gather in the Kinzie Industrial Corridor\, where Maxwells is part of a vibrant collective of food\, design\, and sustainability-focused ventures. Expect Chicago-inspired cuisine that reflects the chef team’s heritage and creativity\, in a setting built for conversation and connection. \nSpace is limited—reserve your spot for this unforgettable night of food\, conversation\, and community. \nRSVP By: 1/2/26 \nAttendees: EO Members & SLPs
URL:https://eochicago.org/event/table-for-growth-an-evening-at-maxwells-trading/
LOCATION:Maxwells Trading\, 1516 West Carroll Avenue\, Chicago\, IL\, 60607
CATEGORIES:Engagement
ATTACH;FMTTYPE=image/png:https://eochicago.org/wp-content/uploads/2025/08/18150_image.png
END:VEVENT
END:VCALENDAR