BEGIN:VCALENDAR
VERSION:2.0
PRODID:-//EO Chicago - ECPv6.0.11//NONSGML v1.0//EN
CALSCALE:GREGORIAN
METHOD:PUBLISH
X-WR-CALNAME:EO Chicago
X-ORIGINAL-URL:https://eochicago.org
X-WR-CALDESC:Events for EO Chicago
REFRESH-INTERVAL;VALUE=DURATION:PT1H
X-Robots-Tag:noindex
X-PUBLISHED-TTL:PT1H
BEGIN:VTIMEZONE
TZID:America/Chicago
BEGIN:DAYLIGHT
TZOFFSETFROM:-0600
TZOFFSETTO:-0500
TZNAME:CDT
DTSTART:20250309T080000
END:DAYLIGHT
BEGIN:STANDARD
TZOFFSETFROM:-0500
TZOFFSETTO:-0600
TZNAME:CST
DTSTART:20251102T070000
END:STANDARD
END:VTIMEZONE
BEGIN:VEVENT
DTSTART;TZID=America/Chicago:20250926T080000
DTEND;TZID=America/Chicago:20250926T100000
DTSTAMP:20260420T201139
CREATED:20250821T193528Z
LAST-MODIFIED:20250925T200109Z
UID:17970-1758873600-1758880800@eochicago.org
SUMMARY:EO Breakfast @ Wildberry Pancakes & Cafe
DESCRIPTION:Start Your Day with EO and Breakfast @ Wildberry Pancakes & Cafe \nJoin fellow EO Chicago members for a casual morning of good food and great conversation. Whether you’re fueling up for the day or looking to connect with familiar faces (and new ones!)\, this is the perfect way to kick off your morning. \nThis one’s low-key\, high-connection — just show up hungry and ready to connect. \nRSVP BY: 9/19/25 \nAttendees: EO Members & SAPs
URL:https://eochicago.org/event/eo-breakfast-wildberry-pancakes-cafe-2/
LOCATION:Wildberry Pancakes & Cafe @ Water Tower Place\, 196 East Pearson Street\, Chicago\, IL\, 60611
CATEGORIES:Engagement
ATTACH;FMTTYPE=image/png:https://eochicago.org/wp-content/uploads/2025/08/17970_image-1.png
END:VEVENT
END:VCALENDAR