BEGIN:VCALENDAR
VERSION:2.0
PRODID:-//EO Chicago - ECPv6.0.11//NONSGML v1.0//EN
CALSCALE:GREGORIAN
METHOD:PUBLISH
X-WR-CALNAME:EO Chicago
X-ORIGINAL-URL:https://eochicago.org
X-WR-CALDESC:Events for EO Chicago
REFRESH-INTERVAL;VALUE=DURATION:PT1H
X-Robots-Tag:noindex
X-PUBLISHED-TTL:PT1H
BEGIN:VTIMEZONE
TZID:America/Chicago
BEGIN:DAYLIGHT
TZOFFSETFROM:-0600
TZOFFSETTO:-0500
TZNAME:CDT
DTSTART:20260308T080000
END:DAYLIGHT
BEGIN:STANDARD
TZOFFSETFROM:-0500
TZOFFSETTO:-0600
TZNAME:CST
DTSTART:20261101T070000
END:STANDARD
END:VTIMEZONE
BEGIN:VEVENT
DTSTART;TZID=America/Chicago:20260906T150000
DTEND;TZID=America/Chicago:20260911T123000
DTSTAMP:20260420T035426
CREATED:20260419T161616Z
LAST-MODIFIED:20260419T161617Z
UID:19317-1788706800-1789129800@eochicago.org
SUMMARY:EO @ Oxford: Unlocking Strategic Innovation
DESCRIPTION:A New Perspective on Your Company’s Future\nImagine standing in the heart of historic Oxford University\, where some of the world’s greatest minds shaped the future. Now picture yourself there—not as a visitor\, but as a participant—immersed in a program that will transform how you shape the future of your business. EO@Oxford: Unlocking Strategic Innovation is an opportunity to redefine what innovation means for you\, your business\, and its future.\nWorking alongside successful entrepreneurs from around the globe\, and guided by Saïd Business School’s pre-eminent strategic innovation faculty\, you will discover answers to key questions about your company’s long-term success: \n\nHow do I adapt and lead in the face of uncertainty and disruption?\nHow do I future-proof my business using the right data to make the right decisions?\nHow do I establish a company-wide culture of creative problem-solving?\nWhat can I learn from top companies that use innovation as a competitive differentiator?\n\nEO@Oxford delivers proven techniques and actionable plans to keep you and your teams nimble and adaptable over the long term—and the connections you’ll form with fellow entrepreneurs who share your ambition to face any challenge. What can you achieve with the tools to think boldly\, innovate fearlessly\, and lead with purpose? Find out at EO@Oxford 2026.\nAttendees: EO Members
URL:https://eochicago.org/event/eo-oxford-unlocking-strategic-innovation/
LOCATION:Blavatnik School of Government\, University of Oxford Radcliffe Observatory Quarter Woodstock Road\, Oxford\, England\, OX2 6GG
ATTACH;FMTTYPE=image/png:https://eochicago.org/wp-content/uploads/2026/04/Untitled-design-1.png
END:VEVENT
END:VCALENDAR